BEGIN:VCALENDAR
VERSION:2.0
PRODID:-//Wimberley Village Library - ECPv6.15.16.1//NONSGML v1.0//EN
CALSCALE:GREGORIAN
METHOD:PUBLISH
X-WR-CALNAME:Wimberley Village Library
X-ORIGINAL-URL:https://wimberleylibrary.org
X-WR-CALDESC:Events for Wimberley Village Library
REFRESH-INTERVAL;VALUE=DURATION:PT1H
X-Robots-Tag:noindex
X-PUBLISHED-TTL:PT1H
BEGIN:VTIMEZONE
TZID:America/Chicago
BEGIN:DAYLIGHT
TZOFFSETFROM:-0600
TZOFFSETTO:-0500
TZNAME:CDT
DTSTART:20220313T080000
END:DAYLIGHT
BEGIN:STANDARD
TZOFFSETFROM:-0500
TZOFFSETTO:-0600
TZNAME:CST
DTSTART:20221106T070000
END:STANDARD
BEGIN:DAYLIGHT
TZOFFSETFROM:-0600
TZOFFSETTO:-0500
TZNAME:CDT
DTSTART:20230312T080000
END:DAYLIGHT
BEGIN:STANDARD
TZOFFSETFROM:-0500
TZOFFSETTO:-0600
TZNAME:CST
DTSTART:20231105T070000
END:STANDARD
BEGIN:DAYLIGHT
TZOFFSETFROM:-0600
TZOFFSETTO:-0500
TZNAME:CDT
DTSTART:20240310T080000
END:DAYLIGHT
BEGIN:STANDARD
TZOFFSETFROM:-0500
TZOFFSETTO:-0600
TZNAME:CST
DTSTART:20241103T070000
END:STANDARD
END:VTIMEZONE
BEGIN:VEVENT
DTSTART;TZID=America/Chicago:20231020T103000
DTEND;TZID=America/Chicago:20231020T113000
DTSTAMP:20260419T115528
CREATED:20231018T160151Z
LAST-MODIFIED:20231018T160151Z
UID:12290-1697797800-1697801400@wimberleylibrary.org
SUMMARY:Story Time
DESCRIPTION:
URL:https://wimberleylibrary.org/event/story-time-5-2-2-2/
CATEGORIES:Youth
END:VEVENT
BEGIN:VEVENT
DTSTART;TZID=America/Chicago:20231019T140000
DTEND;TZID=America/Chicago:20231019T170000
DTSTAMP:20260419T115528
CREATED:20231018T155953Z
LAST-MODIFIED:20231018T155953Z
UID:12288-1697724000-1697734800@wimberleylibrary.org
SUMMARY:Master Gardeners at the Library
DESCRIPTION:Stop by the Master Gardeners table display to grab some great resources and talk to some of the masters! \nPlan! Plant! Prosper! Curious about rainwater harvesting? Would you like some ideas for preparing for collecting some spring rain? Stop by to grab some great resources and talk to some Wimberley master gardeners! Plan your garden\, and don’t let space be your obstacle! Container gardens are great for porches\, patios\, and apartments. You can grow fresh food right outside your door! Some seeds can be planted indoors now and transplanted into pots or buckets on your patio after the year’s last frost. Container gardens are a fun way to start small and get kids started on their projects! See us for tips\, planting guides\, and seed catalogs.
URL:https://wimberleylibrary.org/event/master-gardeners-at-the-library-2-2/
CATEGORIES:Families
END:VEVENT
BEGIN:VEVENT
DTSTART;TZID=America/Chicago:20231019T100000
DTEND;TZID=America/Chicago:20231019T110000
DTSTAMP:20260419T115528
CREATED:20231018T155637Z
LAST-MODIFIED:20231018T155637Z
UID:12284-1697709600-1697713200@wimberleylibrary.org
SUMMARY:Gentle Yoga
DESCRIPTION:
URL:https://wimberleylibrary.org/event/gentle-yoga-3-2-2-2-2/
CATEGORIES:Adults
END:VEVENT
BEGIN:VEVENT
DTSTART;TZID=America/Chicago:20231018T180000
DTEND;TZID=America/Chicago:20231018T193000
DTSTAMP:20260419T115528
CREATED:20231018T155508Z
LAST-MODIFIED:20231018T155508Z
UID:12282-1697652000-1697657400@wimberleylibrary.org
SUMMARY:Adult Craft LAB
DESCRIPTION:
URL:https://wimberleylibrary.org/event/adult-craft-lab-4-2/
CATEGORIES:Adult Craft LAB
END:VEVENT
BEGIN:VEVENT
DTSTART;TZID=America/Chicago:20231018T160000
DTEND;TZID=America/Chicago:20231018T180000
DTSTAMP:20260419T115528
CREATED:20231018T155342Z
LAST-MODIFIED:20231018T155343Z
UID:12280-1697644800-1697652000@wimberleylibrary.org
SUMMARY:Chess Club & Classical Board Game Night
DESCRIPTION:
URL:https://wimberleylibrary.org/event/chess-club-classical-board-game-night-3-2/
CATEGORIES:Teens
END:VEVENT
BEGIN:VEVENT
DTSTART;TZID=America/Chicago:20231018T140000
DTEND;TZID=America/Chicago:20231018T150000
DTSTAMP:20260419T115528
CREATED:20231018T155157Z
LAST-MODIFIED:20231018T155157Z
UID:12278-1697637600-1697641200@wimberleylibrary.org
SUMMARY:Club de Conversación
DESCRIPTION:
URL:https://wimberleylibrary.org/event/club-de-conversacion-2-3-2-2/
CATEGORIES:Adults
END:VEVENT
BEGIN:VEVENT
DTSTART;TZID=America/Chicago:20231018T123000
DTEND;TZID=America/Chicago:20231018T133000
DTSTAMP:20260419T115528
CREATED:20231018T155046Z
LAST-MODIFIED:20231018T155046Z
UID:12276-1697632200-1697635800@wimberleylibrary.org
SUMMARY:Spanish for Homeschool Teens
DESCRIPTION:
URL:https://wimberleylibrary.org/event/spanish-for-homeschool-teens-2/
CATEGORIES:Teens
END:VEVENT
BEGIN:VEVENT
DTSTART;TZID=America/Chicago:20231025T100000
DTEND;TZID=America/Chicago:20231025T120000
DTSTAMP:20260419T115528
CREATED:20231020T142207Z
LAST-MODIFIED:20231020T142208Z
UID:12302-1698228000-1698235200@wimberleylibrary.org
SUMMARY:Hero Quest for Homeschool Tweens
DESCRIPTION:
URL:https://wimberleylibrary.org/event/hero-quest-for-homeschool-tweens-2/
CATEGORIES:Teens
END:VEVENT
BEGIN:VEVENT
DTSTART;TZID=America/Chicago:20231018T100000
DTEND;TZID=America/Chicago:20231018T110000
DTSTAMP:20260419T115528
CREATED:20231018T154822Z
LAST-MODIFIED:20231018T154822Z
UID:12272-1697623200-1697626800@wimberleylibrary.org
SUMMARY:EASE Chair Exercises
DESCRIPTION:
URL:https://wimberleylibrary.org/event/ease-chair-exercises-2-2/
CATEGORIES:Adults
END:VEVENT
BEGIN:VEVENT
DTSTART;TZID=America/Chicago:20231031T100000
DTEND;TZID=America/Chicago:20231031T180000
DTSTAMP:20260419T115528
CREATED:20230926T203648Z
LAST-MODIFIED:20230926T203648Z
UID:12204-1698746400-1698775200@wimberleylibrary.org
SUMMARY:House of Freight
DESCRIPTION:Come celebrate Halloween with us if you dare! \nOur multi-purpose room will transformed into a spooky family-friendly haunted house!
URL:https://wimberleylibrary.org/event/house-of-freight-2/
CATEGORIES:Families
END:VEVENT
BEGIN:VEVENT
DTSTART;TZID=America/Chicago:20231023T160000
DTEND;TZID=America/Chicago:20231023T180000
DTSTAMP:20260419T115528
CREATED:20231018T152920Z
LAST-MODIFIED:20231018T152921Z
UID:12256-1698076800-1698084000@wimberleylibrary.org
SUMMARY:Minecraft & Virtual Reality
DESCRIPTION:
URL:https://wimberleylibrary.org/event/minecraft-5-2-2-2-2-2/
CATEGORIES:Teens
END:VEVENT
BEGIN:VEVENT
DTSTART;TZID=America/Chicago:20231023T103000
DTEND;TZID=America/Chicago:20231023T113000
DTSTAMP:20260419T115528
CREATED:20231018T152623Z
LAST-MODIFIED:20231018T152623Z
UID:12254-1698057000-1698060600@wimberleylibrary.org
SUMMARY:Toddler Time
DESCRIPTION:
URL:https://wimberleylibrary.org/event/toddler-time-6-2-2-2/
CATEGORIES:Youth
END:VEVENT
BEGIN:VEVENT
DTSTART;TZID=America/Chicago:20231028T160000
DTEND;TZID=America/Chicago:20231028T180000
DTSTAMP:20260419T115528
CREATED:20231018T160911Z
LAST-MODIFIED:20231024T133341Z
UID:12300-1698508800-1698516000@wimberleylibrary.org
SUMMARY:Magic the Gathering & Pokemon
DESCRIPTION:
URL:https://wimberleylibrary.org/event/magic-the-gathering-3-2-2-2/
CATEGORIES:Teens
END:VEVENT
BEGIN:VEVENT
DTSTART;TZID=America/Chicago:20231027T110000
DTEND;TZID=America/Chicago:20231027T120000
DTSTAMP:20260419T115528
CREATED:20230919T193919Z
LAST-MODIFIED:20230919T193919Z
UID:12191-1698404400-1698408000@wimberleylibrary.org
SUMMARY:Aromatherapy Class: Spook-tacular Oil-oween Essentials
DESCRIPTION:Haunting Headaches? Terrifying Tummy Troubles? Shrieking Stress? Oh my!\nHave no fear\, “Eerie-sistible” Essential Oils are here!\nGhoulish gift bags! Fang-tastic freebies! Boo-tiful blended DIY rollers!
URL:https://wimberleylibrary.org/event/aromatherapy-class-spook-tacular-oil-oween-essentials/
CATEGORIES:Adults
END:VEVENT
BEGIN:VEVENT
DTSTART;TZID=America/Chicago:20231020T103000
DTEND;TZID=America/Chicago:20231020T113000
DTSTAMP:20260419T115528
CREATED:20231018T160151Z
LAST-MODIFIED:20231018T160151Z
UID:12290-1697797800-1697801400@wimberleylibrary.org
SUMMARY:Story Time
DESCRIPTION:
URL:https://wimberleylibrary.org/event/story-time-5-2-2-2/
CATEGORIES:Youth
END:VEVENT
BEGIN:VEVENT
DTSTART;TZID=America/Chicago:20231019T140000
DTEND;TZID=America/Chicago:20231019T170000
DTSTAMP:20260419T115528
CREATED:20231018T155953Z
LAST-MODIFIED:20231018T155953Z
UID:12288-1697724000-1697734800@wimberleylibrary.org
SUMMARY:Master Gardeners at the Library
DESCRIPTION:Stop by the Master Gardeners table display to grab some great resources and talk to some of the masters! \nPlan! Plant! Prosper! Curious about rainwater harvesting? Would you like some ideas for preparing for collecting some spring rain? Stop by to grab some great resources and talk to some Wimberley master gardeners! Plan your garden\, and don’t let space be your obstacle! Container gardens are great for porches\, patios\, and apartments. You can grow fresh food right outside your door! Some seeds can be planted indoors now and transplanted into pots or buckets on your patio after the year’s last frost. Container gardens are a fun way to start small and get kids started on their projects! See us for tips\, planting guides\, and seed catalogs.
URL:https://wimberleylibrary.org/event/master-gardeners-at-the-library-2-2/
CATEGORIES:Families
END:VEVENT
BEGIN:VEVENT
DTSTART;TZID=America/Chicago:20231026T110000
DTEND;TZID=America/Chicago:20231026T180000
DTSTAMP:20260419T115528
CREATED:20231025T150840Z
LAST-MODIFIED:20231025T150840Z
UID:12320-1698318000-1698343200@wimberleylibrary.org
SUMMARY:Library opens at 11:00 a.m. for staff & volunteer training
DESCRIPTION:
URL:https://wimberleylibrary.org/event/library-opens-at-1100-a-m-for-staff-volunteer-training/
CATEGORIES:Families
END:VEVENT
BEGIN:VEVENT
DTSTART;TZID=America/Chicago:20231019T100000
DTEND;TZID=America/Chicago:20231019T110000
DTSTAMP:20260419T115528
CREATED:20231018T155637Z
LAST-MODIFIED:20231018T155637Z
UID:12284-1697709600-1697713200@wimberleylibrary.org
SUMMARY:Gentle Yoga
DESCRIPTION:
URL:https://wimberleylibrary.org/event/gentle-yoga-3-2-2-2-2/
CATEGORIES:Adults
END:VEVENT
BEGIN:VEVENT
DTSTART;TZID=America/Chicago:20231018T180000
DTEND;TZID=America/Chicago:20231018T193000
DTSTAMP:20260419T115528
CREATED:20231018T155508Z
LAST-MODIFIED:20231018T155508Z
UID:12282-1697652000-1697657400@wimberleylibrary.org
SUMMARY:Adult Craft LAB
DESCRIPTION:
URL:https://wimberleylibrary.org/event/adult-craft-lab-4-2/
CATEGORIES:Adult Craft LAB
END:VEVENT
BEGIN:VEVENT
DTSTART;TZID=America/Chicago:20231018T160000
DTEND;TZID=America/Chicago:20231018T180000
DTSTAMP:20260419T115528
CREATED:20231018T155342Z
LAST-MODIFIED:20231018T155343Z
UID:12280-1697644800-1697652000@wimberleylibrary.org
SUMMARY:Chess Club & Classical Board Game Night
DESCRIPTION:
URL:https://wimberleylibrary.org/event/chess-club-classical-board-game-night-3-2/
CATEGORIES:Teens
END:VEVENT
BEGIN:VEVENT
DTSTART;TZID=America/Chicago:20231018T140000
DTEND;TZID=America/Chicago:20231018T150000
DTSTAMP:20260419T115528
CREATED:20231018T155157Z
LAST-MODIFIED:20231018T155157Z
UID:12278-1697637600-1697641200@wimberleylibrary.org
SUMMARY:Club de Conversación
DESCRIPTION:
URL:https://wimberleylibrary.org/event/club-de-conversacion-2-3-2-2/
CATEGORIES:Adults
END:VEVENT
BEGIN:VEVENT
DTSTART;TZID=America/Chicago:20231018T123000
DTEND;TZID=America/Chicago:20231018T133000
DTSTAMP:20260419T115528
CREATED:20231018T155046Z
LAST-MODIFIED:20231018T155046Z
UID:12276-1697632200-1697635800@wimberleylibrary.org
SUMMARY:Spanish for Homeschool Teens
DESCRIPTION:
URL:https://wimberleylibrary.org/event/spanish-for-homeschool-teens-2/
CATEGORIES:Teens
END:VEVENT
BEGIN:VEVENT
DTSTART;TZID=America/Chicago:20231025T100000
DTEND;TZID=America/Chicago:20231025T120000
DTSTAMP:20260419T115528
CREATED:20231020T142207Z
LAST-MODIFIED:20231020T142208Z
UID:12302-1698228000-1698235200@wimberleylibrary.org
SUMMARY:Hero Quest for Homeschool Tweens
DESCRIPTION:
URL:https://wimberleylibrary.org/event/hero-quest-for-homeschool-tweens-2/
CATEGORIES:Teens
END:VEVENT
BEGIN:VEVENT
DTSTART;TZID=America/Chicago:20231018T100000
DTEND;TZID=America/Chicago:20231018T110000
DTSTAMP:20260419T115528
CREATED:20231018T154822Z
LAST-MODIFIED:20231018T154822Z
UID:12272-1697623200-1697626800@wimberleylibrary.org
SUMMARY:EASE Chair Exercises
DESCRIPTION:
URL:https://wimberleylibrary.org/event/ease-chair-exercises-2-2/
CATEGORIES:Adults
END:VEVENT
BEGIN:VEVENT
DTSTART;TZID=America/Chicago:20231024T160000
DTEND;TZID=America/Chicago:20231024T170000
DTSTAMP:20260419T115528
CREATED:20231020T142608Z
LAST-MODIFIED:20231023T154744Z
UID:12306-1698163200-1698166800@wimberleylibrary.org
SUMMARY:Qigong with Master Kim
DESCRIPTION:
URL:https://wimberleylibrary.org/event/qigong-with-master-kim-4/
CATEGORIES:Adults
END:VEVENT
BEGIN:VEVENT
DTSTART;TZID=America/Chicago:20231024T114500
DTEND;TZID=America/Chicago:20231024T124500
DTSTAMP:20260419T115528
CREATED:20231018T153956Z
LAST-MODIFIED:20231020T144351Z
UID:12266-1698147900-1698151500@wimberleylibrary.org
SUMMARY:Spanish Basic - Intermediate
DESCRIPTION:
URL:https://wimberleylibrary.org/event/spanish-basic-course-3-2-2-2-2/
CATEGORIES:Adults
END:VEVENT
BEGIN:VEVENT
DTSTART;TZID=America/Chicago:20231024T103000
DTEND;TZID=America/Chicago:20231024T113000
DTSTAMP:20260419T115528
CREATED:20231018T153831Z
LAST-MODIFIED:20231020T144224Z
UID:12264-1698143400-1698147000@wimberleylibrary.org
SUMMARY:Bilingüal Spanish Story Time
DESCRIPTION:For ages 4 – 7 yr. olds \nYouth room
URL:https://wimberleylibrary.org/event/french-story-time-2-2/
CATEGORIES:Youth
END:VEVENT
BEGIN:VEVENT
DTSTART;TZID=America/Chicago:20231024T103000
DTEND;TZID=America/Chicago:20231024T113000
DTSTAMP:20260419T115528
CREATED:20231018T153640Z
LAST-MODIFIED:20231024T133007Z
UID:12262-1698143400-1698147000@wimberleylibrary.org
SUMMARY:Spanish Intermediate - Advanced
DESCRIPTION:
URL:https://wimberleylibrary.org/event/spanish-intermediate-level-3-2-2-2-2/
CATEGORIES:Adults
END:VEVENT
BEGIN:VEVENT
DTSTART;TZID=America/Chicago:20231023T160000
DTEND;TZID=America/Chicago:20231023T180000
DTSTAMP:20260419T115528
CREATED:20231018T152920Z
LAST-MODIFIED:20231018T152921Z
UID:12256-1698076800-1698084000@wimberleylibrary.org
SUMMARY:Minecraft & Virtual Reality
DESCRIPTION:
URL:https://wimberleylibrary.org/event/minecraft-5-2-2-2-2-2/
CATEGORIES:Teens
END:VEVENT
BEGIN:VEVENT
DTSTART;TZID=America/Chicago:20231023T103000
DTEND;TZID=America/Chicago:20231023T113000
DTSTAMP:20260419T115528
CREATED:20231018T152623Z
LAST-MODIFIED:20231018T152623Z
UID:12254-1698057000-1698060600@wimberleylibrary.org
SUMMARY:Toddler Time
DESCRIPTION:
URL:https://wimberleylibrary.org/event/toddler-time-6-2-2-2/
CATEGORIES:Youth
END:VEVENT
END:VCALENDAR