BEGIN:VCALENDAR
VERSION:2.0
PRODID:-//Wimberley Village Library - ECPv6.15.16.1//NONSGML v1.0//EN
CALSCALE:GREGORIAN
METHOD:PUBLISH
X-WR-CALNAME:Wimberley Village Library
X-ORIGINAL-URL:https://wimberleylibrary.org
X-WR-CALDESC:Events for Wimberley Village Library
REFRESH-INTERVAL;VALUE=DURATION:PT1H
X-Robots-Tag:noindex
X-PUBLISHED-TTL:PT1H
BEGIN:VTIMEZONE
TZID:America/Chicago
BEGIN:DAYLIGHT
TZOFFSETFROM:-0600
TZOFFSETTO:-0500
TZNAME:CDT
DTSTART:20210314T080000
END:DAYLIGHT
BEGIN:STANDARD
TZOFFSETFROM:-0500
TZOFFSETTO:-0600
TZNAME:CST
DTSTART:20211107T070000
END:STANDARD
BEGIN:DAYLIGHT
TZOFFSETFROM:-0600
TZOFFSETTO:-0500
TZNAME:CDT
DTSTART:20220313T080000
END:DAYLIGHT
BEGIN:STANDARD
TZOFFSETFROM:-0500
TZOFFSETTO:-0600
TZNAME:CST
DTSTART:20221106T070000
END:STANDARD
BEGIN:DAYLIGHT
TZOFFSETFROM:-0600
TZOFFSETTO:-0500
TZNAME:CDT
DTSTART:20230312T080000
END:DAYLIGHT
BEGIN:STANDARD
TZOFFSETFROM:-0500
TZOFFSETTO:-0600
TZNAME:CST
DTSTART:20231105T070000
END:STANDARD
BEGIN:DAYLIGHT
TZOFFSETFROM:-0600
TZOFFSETTO:-0500
TZNAME:CDT
DTSTART:20240310T080000
END:DAYLIGHT
BEGIN:STANDARD
TZOFFSETFROM:-0500
TZOFFSETTO:-0600
TZNAME:CST
DTSTART:20241103T070000
END:STANDARD
END:VTIMEZONE
BEGIN:VEVENT
DTSTART;TZID=America/Chicago:20231023T160000
DTEND;TZID=America/Chicago:20231023T180000
DTSTAMP:20260419T184402
CREATED:20231018T152920Z
LAST-MODIFIED:20231018T152921Z
UID:12256-1698076800-1698084000@wimberleylibrary.org
SUMMARY:Minecraft & Virtual Reality
DESCRIPTION:
URL:https://wimberleylibrary.org/event/minecraft-5-2-2-2-2-2/
CATEGORIES:Teens
END:VEVENT
BEGIN:VEVENT
DTSTART;TZID=America/Chicago:20231023T103000
DTEND;TZID=America/Chicago:20231023T113000
DTSTAMP:20260419T184402
CREATED:20231018T152623Z
LAST-MODIFIED:20231018T152623Z
UID:12254-1698057000-1698060600@wimberleylibrary.org
SUMMARY:Toddler Time
DESCRIPTION:
URL:https://wimberleylibrary.org/event/toddler-time-6-2-2-2/
CATEGORIES:Youth
END:VEVENT
BEGIN:VEVENT
DTSTART;TZID=America/Chicago:20231023T080000
DTEND;TZID=America/Chicago:20231023T090000
DTSTAMP:20260419T184402
CREATED:20231016T194601Z
LAST-MODIFIED:20231016T194601Z
UID:12252-1698048000-1698051600@wimberleylibrary.org
SUMMARY:Creciendo Juntos
DESCRIPTION:Te invitamos a participar en este taller educacional con temas sobre la crianza y el desarrollo de nuestros hijos. No te pierdas este taller gratuito lleno de consejos y herramientas efectivas para criar a nuestros hijos con amor y respeto. Conoce a otros padres de familia y forma parte de este importante grupo de apoyo. \nSerá impartido por la consejera Nidia Ponce\, LCSW. Nidia tiene más de 19 años trabajando con padres\, niños y parejas en el área de salud emocional/mental. Si tienes preguntas comunícate directamente con ella al 303-500-9894. \nWe are excited to announce our upcoming series of educational workshops on parenting\, a partnership with HCWHC. These workshops are designed to provide you with effective tools and tips on how to raise your children with love and respect. We invite you to join us and be a part of this important group. The program is free\, and you will get to meet other parents and share your experiences.
URL:https://wimberleylibrary.org/event/creciendo-juntos/
CATEGORIES:Adults
END:VEVENT
BEGIN:VEVENT
DTSTART;TZID=America/Chicago:20231020T110000
DTEND;TZID=America/Chicago:20231020T150000
DTSTAMP:20260419T184402
CREATED:20231018T160512Z
LAST-MODIFIED:20231018T160512Z
UID:12296-1697799600-1697814000@wimberleylibrary.org
SUMMARY:Teen Homeschool Board-Game Day
DESCRIPTION:This program is designed for homeschooled teens (ages 13+) who are interested in playing more involved tabletop RPG board games. For more information please contact teen librarian: teenservices@wimberleylibrary.org
URL:https://wimberleylibrary.org/event/teen-homeschool-board-game-day-3/
CATEGORIES:Teens
END:VEVENT
BEGIN:VEVENT
DTSTART;TZID=America/Chicago:20231020T103000
DTEND;TZID=America/Chicago:20231020T113000
DTSTAMP:20260419T184402
CREATED:20231018T160151Z
LAST-MODIFIED:20231018T160151Z
UID:12290-1697797800-1697801400@wimberleylibrary.org
SUMMARY:Story Time
DESCRIPTION:
URL:https://wimberleylibrary.org/event/story-time-5-2-2-2/
CATEGORIES:Youth
END:VEVENT
BEGIN:VEVENT
DTSTART;TZID=America/Chicago:20231019T140000
DTEND;TZID=America/Chicago:20231019T170000
DTSTAMP:20260419T184402
CREATED:20231018T155953Z
LAST-MODIFIED:20231018T155953Z
UID:12288-1697724000-1697734800@wimberleylibrary.org
SUMMARY:Master Gardeners at the Library
DESCRIPTION:Stop by the Master Gardeners table display to grab some great resources and talk to some of the masters! \nPlan! Plant! Prosper! Curious about rainwater harvesting? Would you like some ideas for preparing for collecting some spring rain? Stop by to grab some great resources and talk to some Wimberley master gardeners! Plan your garden\, and don’t let space be your obstacle! Container gardens are great for porches\, patios\, and apartments. You can grow fresh food right outside your door! Some seeds can be planted indoors now and transplanted into pots or buckets on your patio after the year’s last frost. Container gardens are a fun way to start small and get kids started on their projects! See us for tips\, planting guides\, and seed catalogs.
URL:https://wimberleylibrary.org/event/master-gardeners-at-the-library-2-2/
CATEGORIES:Families
END:VEVENT
BEGIN:VEVENT
DTSTART;TZID=America/Chicago:20231019T130000
DTEND;TZID=America/Chicago:20231019T140000
DTSTAMP:20260419T184402
CREATED:20231018T155820Z
LAST-MODIFIED:20231018T155821Z
UID:12286-1697720400-1697724000@wimberleylibrary.org
SUMMARY:Mystery Book Club
DESCRIPTION:
URL:https://wimberleylibrary.org/event/mystery-book-club-2-2/
CATEGORIES:Adults
END:VEVENT
BEGIN:VEVENT
DTSTART;TZID=America/Chicago:20231019T100000
DTEND;TZID=America/Chicago:20231019T110000
DTSTAMP:20260419T184402
CREATED:20231018T155637Z
LAST-MODIFIED:20231018T155637Z
UID:12284-1697709600-1697713200@wimberleylibrary.org
SUMMARY:Gentle Yoga
DESCRIPTION:
URL:https://wimberleylibrary.org/event/gentle-yoga-3-2-2-2-2/
CATEGORIES:Adults
END:VEVENT
BEGIN:VEVENT
DTSTART;TZID=America/Chicago:20231018T180000
DTEND;TZID=America/Chicago:20231018T193000
DTSTAMP:20260419T184402
CREATED:20231018T155508Z
LAST-MODIFIED:20231018T155508Z
UID:12282-1697652000-1697657400@wimberleylibrary.org
SUMMARY:Adult Craft LAB
DESCRIPTION:
URL:https://wimberleylibrary.org/event/adult-craft-lab-4-2/
CATEGORIES:Adult Craft LAB
END:VEVENT
BEGIN:VEVENT
DTSTART;TZID=America/Chicago:20231018T160000
DTEND;TZID=America/Chicago:20231018T180000
DTSTAMP:20260419T184402
CREATED:20231018T155342Z
LAST-MODIFIED:20231018T155343Z
UID:12280-1697644800-1697652000@wimberleylibrary.org
SUMMARY:Chess Club & Classical Board Game Night
DESCRIPTION:
URL:https://wimberleylibrary.org/event/chess-club-classical-board-game-night-3-2/
CATEGORIES:Teens
END:VEVENT
BEGIN:VEVENT
DTSTART;TZID=America/Chicago:20231018T140000
DTEND;TZID=America/Chicago:20231018T150000
DTSTAMP:20260419T184402
CREATED:20231018T155157Z
LAST-MODIFIED:20231018T155157Z
UID:12278-1697637600-1697641200@wimberleylibrary.org
SUMMARY:Club de Conversación
DESCRIPTION:
URL:https://wimberleylibrary.org/event/club-de-conversacion-2-3-2-2/
CATEGORIES:Adults
END:VEVENT
BEGIN:VEVENT
DTSTART;TZID=America/Chicago:20231018T123000
DTEND;TZID=America/Chicago:20231018T133000
DTSTAMP:20260419T184402
CREATED:20231018T155046Z
LAST-MODIFIED:20231018T155046Z
UID:12276-1697632200-1697635800@wimberleylibrary.org
SUMMARY:Spanish for Homeschool Teens
DESCRIPTION:
URL:https://wimberleylibrary.org/event/spanish-for-homeschool-teens-2/
CATEGORIES:Teens
END:VEVENT
BEGIN:VEVENT
DTSTART;TZID=America/Chicago:20231004T100000
DTEND;TZID=America/Chicago:20231004T120000
DTSTAMP:20260419T184402
CREATED:20231003T184804Z
LAST-MODIFIED:20231003T184804Z
UID:12227-1696413600-1696420800@wimberleylibrary.org
SUMMARY:Hero Quest for Homeschool Tweens
DESCRIPTION:
URL:https://wimberleylibrary.org/event/hero-quest-for-homeschool-tweens/
CATEGORIES:Teens
END:VEVENT
BEGIN:VEVENT
DTSTART;TZID=America/Chicago:20231004T100000
DTEND;TZID=America/Chicago:20231004T120000
DTSTAMP:20260419T184402
CREATED:20230926T204210Z
LAST-MODIFIED:20230926T204210Z
UID:12208-1696413600-1696420800@wimberleylibrary.org
SUMMARY:HeroQuest for Homeschool Tweens
DESCRIPTION:
URL:https://wimberleylibrary.org/event/heroquest-for-homeschool-tweens/
CATEGORIES:Teens
END:VEVENT
BEGIN:VEVENT
DTSTART;TZID=America/Chicago:20231018T100000
DTEND;TZID=America/Chicago:20231018T110000
DTSTAMP:20260419T184402
CREATED:20231018T154822Z
LAST-MODIFIED:20231018T154822Z
UID:12272-1697623200-1697626800@wimberleylibrary.org
SUMMARY:EASE Chair Exercises
DESCRIPTION:
URL:https://wimberleylibrary.org/event/ease-chair-exercises-2-2/
CATEGORIES:Adults
END:VEVENT
BEGIN:VEVENT
DTSTART;TZID=America/Chicago:20231017T114500
DTEND;TZID=America/Chicago:20231017T124500
DTSTAMP:20260419T184402
CREATED:20231020T144943Z
LAST-MODIFIED:20231020T144944Z
UID:12308-1697543100-1697546700@wimberleylibrary.org
SUMMARY:Spanish Basic - Intermediate
DESCRIPTION:
URL:https://wimberleylibrary.org/event/spanish-basic-course-3-2-2-2-3/
CATEGORIES:Adults
END:VEVENT
BEGIN:VEVENT
DTSTART;TZID=America/Chicago:20230801T103000
DTEND;TZID=America/Chicago:20230801T113000
DTSTAMP:20260419T184402
CREATED:20230718T135941Z
LAST-MODIFIED:20230718T135941Z
UID:11952-1690885800-1690889400@wimberleylibrary.org
SUMMARY:Spanish Intermediate - Advanced
DESCRIPTION:
URL:https://wimberleylibrary.org/event/spanish-intermediate-level-3-2-2-2/
CATEGORIES:Adults
END:VEVENT
BEGIN:VEVENT
DTSTART;TZID=America/Chicago:20230718T103000
DTEND;TZID=America/Chicago:20230718T113000
DTSTAMP:20260419T184402
CREATED:20230718T134642Z
LAST-MODIFIED:20230718T134642Z
UID:11946-1689676200-1689679800@wimberleylibrary.org
SUMMARY:Bilingüal Spanish Story Time
DESCRIPTION:For ages 4 – 7 yr. olds \nYouth room
URL:https://wimberleylibrary.org/event/french-story-time-2/
CATEGORIES:Youth
END:VEVENT
BEGIN:VEVENT
DTSTART;TZID=America/Chicago:20231016T180000
DTEND;TZID=America/Chicago:20231016T200000
DTSTAMP:20260419T184402
CREATED:20230926T203948Z
LAST-MODIFIED:20230926T203948Z
UID:12206-1697479200-1697486400@wimberleylibrary.org
SUMMARY:Teen Movie Night!
DESCRIPTION:We’ll be showing the 80s classic horror\, Poltergeist! This spooky Spielberg Movie is rated PG but please do your own research to see if it’s right for your teen! \nWe’ll have popcorn and refreshments!
URL:https://wimberleylibrary.org/event/teen-movie-night/
CATEGORIES:Teens
END:VEVENT
BEGIN:VEVENT
DTSTART;TZID=America/Chicago:20230710T160000
DTEND;TZID=America/Chicago:20230710T180000
DTSTAMP:20260419T184402
CREATED:20230707T183621Z
LAST-MODIFIED:20230707T183930Z
UID:11886-1689004800-1689012000@wimberleylibrary.org
SUMMARY:Minecraft & Virtual Reality
DESCRIPTION:
URL:https://wimberleylibrary.org/event/minecraft-5-2-2-2-2/
CATEGORIES:Teens
END:VEVENT
BEGIN:VEVENT
DTSTART;TZID=America/Chicago:20230109T103000
DTEND;TZID=America/Chicago:20230109T113000
DTSTAMP:20260419T184402
CREATED:20230104T205113Z
LAST-MODIFIED:20230105T164847Z
UID:10239-1673260200-1673263800@wimberleylibrary.org
SUMMARY:Toddler Time
DESCRIPTION:
URL:https://wimberleylibrary.org/event/toddler-time-6-2-2/
CATEGORIES:Youth
END:VEVENT
BEGIN:VEVENT
DTSTART;TZID=America/Chicago:20231014T100000
DTEND;TZID=America/Chicago:20231014T130000
DTSTAMP:20260419T184402
CREATED:20230926T203434Z
LAST-MODIFIED:20230926T203434Z
UID:12202-1697277600-1697288400@wimberleylibrary.org
SUMMARY:Connect with a Wimberley Author: Meet & Greet Event
DESCRIPTION:
URL:https://wimberleylibrary.org/event/connect-with-a-wimberley-author-meet-greet-event/
CATEGORIES:Adults
END:VEVENT
BEGIN:VEVENT
DTSTART;TZID=America/Chicago:20221216T103000
DTEND;TZID=America/Chicago:20221216T113000
DTSTAMP:20260419T184402
CREATED:20221213T143520Z
LAST-MODIFIED:20221213T143647Z
UID:10172-1671186600-1671190200@wimberleylibrary.org
SUMMARY:Story Time
DESCRIPTION:
URL:https://wimberleylibrary.org/event/story-time-5-2-2/
CATEGORIES:Youth
END:VEVENT
BEGIN:VEVENT
DTSTART;TZID=America/Chicago:20230608T140000
DTEND;TZID=America/Chicago:20230608T170000
DTSTAMP:20260419T184402
CREATED:20230607T181118Z
LAST-MODIFIED:20230607T181118Z
UID:11299-1686232800-1686243600@wimberleylibrary.org
SUMMARY:Master Gardeners at the Library
DESCRIPTION:Stop by the Master Gardeners table display to grab some great resources and talk to some of the masters! \nPlan! Plant! Prosper! Curious about rainwater harvesting? Would you like some ideas for preparing for collecting some spring rain? Stop by to grab some great resources and talk to some Wimberley master gardeners! Plan your garden\, and don’t let space be your obstacle! Container gardens are great for porches\, patios\, and apartments. You can grow fresh food right outside your door! Some seeds can be planted indoors now and transplanted into pots or buckets on your patio after the year’s last frost. Container gardens are a fun way to start small and get kids started on their projects! See us for tips\, planting guides\, and seed catalogs.
URL:https://wimberleylibrary.org/event/master-gardeners-at-the-library-2/
CATEGORIES:Families
END:VEVENT
BEGIN:VEVENT
DTSTART;TZID=America/Chicago:20230720T100000
DTEND;TZID=America/Chicago:20230720T110000
DTSTAMP:20260419T184402
CREATED:20230719T142426Z
LAST-MODIFIED:20230719T142426Z
UID:11969-1689847200-1689850800@wimberleylibrary.org
SUMMARY:Gentle Yoga
DESCRIPTION:
URL:https://wimberleylibrary.org/event/gentle-yoga-3-2-2-2/
CATEGORIES:Adults
END:VEVENT
BEGIN:VEVENT
DTSTART;TZID=America/Chicago:20221102T180000
DTEND;TZID=America/Chicago:20221102T193000
DTSTAMP:20260419T184402
CREATED:20221010T181027Z
LAST-MODIFIED:20221103T142952Z
UID:8526-1667412000-1667417400@wimberleylibrary.org
SUMMARY:Adult Craft LAB
DESCRIPTION:
URL:https://wimberleylibrary.org/event/adult-craft-lab-4/
CATEGORIES:Adult Craft LAB
END:VEVENT
BEGIN:VEVENT
DTSTART;TZID=America/Chicago:20230712T160000
DTEND;TZID=America/Chicago:20230712T180000
DTSTAMP:20260419T184402
CREATED:20230707T183751Z
LAST-MODIFIED:20230707T183752Z
UID:11888-1689177600-1689184800@wimberleylibrary.org
SUMMARY:Chess Club & Classical Board Game Night
DESCRIPTION:
URL:https://wimberleylibrary.org/event/chess-club-classical-board-game-night-3/
CATEGORIES:Teens
END:VEVENT
BEGIN:VEVENT
DTSTART;TZID=America/Chicago:20230809T140000
DTEND;TZID=America/Chicago:20230809T150000
DTSTAMP:20260419T184402
CREATED:20230803T182946Z
LAST-MODIFIED:20230803T182946Z
UID:12016-1691589600-1691593200@wimberleylibrary.org
SUMMARY:Club de Conversación
DESCRIPTION:
URL:https://wimberleylibrary.org/event/club-de-conversacion-2-3-2/
CATEGORIES:Adults
END:VEVENT
BEGIN:VEVENT
DTSTART;TZID=America/Chicago:20230809T123000
DTEND;TZID=America/Chicago:20230809T133000
DTSTAMP:20260419T184402
CREATED:20230717T185711Z
LAST-MODIFIED:20230717T185711Z
UID:11938-1691584200-1691587800@wimberleylibrary.org
SUMMARY:Spanish for Homeschool Teens
DESCRIPTION:
URL:https://wimberleylibrary.org/event/spanish-for-homeschool-teens/
CATEGORIES:Teens
END:VEVENT
BEGIN:VEVENT
DTSTART;TZID=America/Chicago:20231004T100000
DTEND;TZID=America/Chicago:20231004T120000
DTSTAMP:20260419T184402
CREATED:20231003T184804Z
LAST-MODIFIED:20231003T184804Z
UID:12227-1696413600-1696420800@wimberleylibrary.org
SUMMARY:Hero Quest for Homeschool Tweens
DESCRIPTION:
URL:https://wimberleylibrary.org/event/hero-quest-for-homeschool-tweens/
CATEGORIES:Teens
END:VEVENT
END:VCALENDAR